BEGIN:VCALENDAR
VERSION:2.0
PRODID:-//The Relatives - ECPv5.1.6//NONSGML v1.0//EN
CALSCALE:GREGORIAN
METHOD:PUBLISH
X-WR-CALNAME:The Relatives
X-ORIGINAL-URL:https://www.therelatives.co.nz
X-WR-CALDESC:Events for The Relatives
BEGIN:VTIMEZONE
TZID:Pacific/Auckland
BEGIN:STANDARD
TZOFFSETFROM:+1300
TZOFFSETTO:+1200
TZNAME:NZST
DTSTART:20230401T140000
END:STANDARD
BEGIN:DAYLIGHT
TZOFFSETFROM:+1200
TZOFFSETTO:+1300
TZNAME:NZDT
DTSTART:20230923T140000
END:DAYLIGHT
END:VTIMEZONE
BEGIN:VEVENT
DTSTART;TZID=Pacific/Auckland:20231224T200000
DTEND;TZID=Pacific/Auckland:20231224T230000
DTSTAMP:20260422T020404
CREATED:20230911T111330Z
LAST-MODIFIED:20230911T111500Z
UID:4087-1703448000-1703458800@www.therelatives.co.nz
SUMMARY:1841 - Xmas Eve
DESCRIPTION:1 Disraeli Street\, Johnsonville\, Wellington.
URL:https://www.therelatives.co.nz/event/1841-xmas-eve/
ATTACH;FMTTYPE=image/jpeg:https://www.therelatives.co.nz/wp-content/uploads/2023/09/1841.jpg
END:VEVENT
END:VCALENDAR