BEGIN:VCALENDAR
VERSION:2.0
PRODID:-//The Relatives - ECPv5.1.6//NONSGML v1.0//EN
CALSCALE:GREGORIAN
METHOD:PUBLISH
X-WR-CALNAME:The Relatives
X-ORIGINAL-URL:https://www.therelatives.co.nz
X-WR-CALDESC:Events for The Relatives
BEGIN:VTIMEZONE
TZID:Pacific/Auckland
BEGIN:STANDARD
TZOFFSETFROM:+1300
TZOFFSETTO:+1200
TZNAME:NZST
DTSTART:20260404T140000
END:STANDARD
BEGIN:DAYLIGHT
TZOFFSETFROM:+1200
TZOFFSETTO:+1300
TZNAME:NZDT
DTSTART:20260926T140000
END:DAYLIGHT
END:VTIMEZONE
BEGIN:VEVENT
DTSTART;TZID=Pacific/Auckland:20261121T150000
DTEND;TZID=Pacific/Auckland:20261121T170000
DTSTAMP:20260426T041100
CREATED:20260422T115617Z
LAST-MODIFIED:20260422T115617Z
UID:4722-1795273200-1795280400@www.therelatives.co.nz
SUMMARY:Harvest Hawkes Bay
DESCRIPTION:Harvest Hawke’s Bay | A Food & Wine Celebration
URL:https://www.therelatives.co.nz/event/harvest-hawkes-bay/
ATTACH;FMTTYPE=image/jpeg:https://www.therelatives.co.nz/wp-content/uploads/2026/04/The-Relatives-Harvest-Hawkes-Bay.jpg
END:VEVENT
END:VCALENDAR