BEGIN:VCALENDAR
VERSION:2.0
PRODID:-//The Relatives - ECPv5.1.6//NONSGML v1.0//EN
CALSCALE:GREGORIAN
METHOD:PUBLISH
X-WR-CALNAME:The Relatives
X-ORIGINAL-URL:https://www.therelatives.co.nz
X-WR-CALDESC:Events for The Relatives
BEGIN:VTIMEZONE
TZID:Pacific/Auckland
BEGIN:STANDARD
TZOFFSETFROM:+1300
TZOFFSETTO:+1200
TZNAME:NZST
DTSTART:20260404T140000
END:STANDARD
BEGIN:DAYLIGHT
TZOFFSETFROM:+1200
TZOFFSETTO:+1300
TZNAME:NZDT
DTSTART:20260926T140000
END:DAYLIGHT
END:VTIMEZONE
BEGIN:VEVENT
DTSTART;TZID=Pacific/Auckland:20260110T120000
DTEND;TZID=Pacific/Auckland:20260110T134500
DTSTAMP:20260422T053405
CREATED:20250929T111950Z
LAST-MODIFIED:20250929T111950Z
UID:4600-1768046400-1768052700@www.therelatives.co.nz
SUMMARY:Katikati Avocado Festival
DESCRIPTION:EVENTS – KATIKATI AVO FEST
URL:https://www.therelatives.co.nz/event/katikati-avocado-festival/
ATTACH;FMTTYPE=image/png:https://www.therelatives.co.nz/wp-content/uploads/2025/09/Katikati-Avocado-Fest.png
END:VEVENT
END:VCALENDAR