BEGIN:VCALENDAR
VERSION:2.0
PRODID:-//The Relatives - ECPv5.1.6//NONSGML v1.0//EN
CALSCALE:GREGORIAN
METHOD:PUBLISH
X-WR-CALNAME:The Relatives
X-ORIGINAL-URL:https://www.therelatives.co.nz
X-WR-CALDESC:Events for The Relatives
BEGIN:VTIMEZONE
TZID:Pacific/Auckland
BEGIN:STANDARD
TZOFFSETFROM:+1300
TZOFFSETTO:+1200
TZNAME:NZST
DTSTART:20250405T140000
END:STANDARD
BEGIN:DAYLIGHT
TZOFFSETFROM:+1200
TZOFFSETTO:+1300
TZNAME:NZDT
DTSTART:20250927T140000
END:DAYLIGHT
BEGIN:STANDARD
TZOFFSETFROM:+1300
TZOFFSETTO:+1200
TZNAME:NZST
DTSTART:20260404T140000
END:STANDARD
BEGIN:DAYLIGHT
TZOFFSETFROM:+1200
TZOFFSETTO:+1300
TZNAME:NZDT
DTSTART:20260926T140000
END:DAYLIGHT
END:VTIMEZONE
BEGIN:VEVENT
DTSTART;TZID=Pacific/Auckland:20251231T230000
DTEND;TZID=Pacific/Auckland:20260101T003000
DTSTAMP:20260422T071526
CREATED:20250806T090057Z
LAST-MODIFIED:20251020T214405Z
UID:4570-1767222000-1767227400@www.therelatives.co.nz
SUMMARY:New Years Eve - Nelson - New Year's Eve Countdown in the City
DESCRIPTION:New Year’s Eve Countdown in the City – Nelson City Council
URL:https://www.therelatives.co.nz/event/new-years-eve-south-island-details-to-be-announced/
ATTACH;FMTTYPE=image/png:https://www.therelatives.co.nz/wp-content/uploads/2025/08/Nelson-NYE.png
END:VEVENT
END:VCALENDAR