BEGIN:VCALENDAR
VERSION:2.0
PRODID:-//The Relatives - ECPv5.1.6//NONSGML v1.0//EN
CALSCALE:GREGORIAN
METHOD:PUBLISH
X-WR-CALNAME:The Relatives
X-ORIGINAL-URL:https://www.therelatives.co.nz
X-WR-CALDESC:Events for The Relatives
BEGIN:VTIMEZONE
TZID:Pacific/Auckland
BEGIN:STANDARD
TZOFFSETFROM:+1300
TZOFFSETTO:+1200
TZNAME:NZST
DTSTART:20260404T140000
END:STANDARD
BEGIN:DAYLIGHT
TZOFFSETFROM:+1200
TZOFFSETTO:+1300
TZNAME:NZDT
DTSTART:20260926T140000
END:DAYLIGHT
END:VTIMEZONE
BEGIN:VEVENT
DTSTART;TZID=Pacific/Auckland:20260118T180000
DTEND;TZID=Pacific/Auckland:20260118T200000
DTSTAMP:20260423T205717
CREATED:20251125T212224Z
LAST-MODIFIED:20251125T212224Z
UID:4665-1768759200-1768766400@www.therelatives.co.nz
SUMMARY:Porirua City Summer Concert Series
DESCRIPTION:https://poriruacity.govt.nz/discover-porirua/events/summer-concert-series/
URL:https://www.therelatives.co.nz/event/porirua-city-summer-concert-series/
ATTACH;FMTTYPE=image/jpeg:https://www.therelatives.co.nz/wp-content/uploads/2025/11/PC-Summer-Concer-Series.jpg
END:VEVENT
END:VCALENDAR