BEGIN:VCALENDAR
VERSION:2.0
PRODID:-//The Relatives - ECPv5.1.6//NONSGML v1.0//EN
CALSCALE:GREGORIAN
METHOD:PUBLISH
X-WR-CALNAME:The Relatives
X-ORIGINAL-URL:https://www.therelatives.co.nz
X-WR-CALDESC:Events for The Relatives
BEGIN:VTIMEZONE
TZID:Pacific/Auckland
BEGIN:STANDARD
TZOFFSETFROM:+1300
TZOFFSETTO:+1200
TZNAME:NZST
DTSTART:20260404T140000
END:STANDARD
BEGIN:DAYLIGHT
TZOFFSETFROM:+1200
TZOFFSETTO:+1300
TZNAME:NZDT
DTSTART:20260926T140000
END:DAYLIGHT
END:VTIMEZONE
BEGIN:VEVENT
DTSTART;TZID=Pacific/Auckland:20260124T203000
DTEND;TZID=Pacific/Auckland:20260124T233000
DTSTAMP:20260423T211518
CREATED:20251124T111523Z
LAST-MODIFIED:20251124T111734Z
UID:4658-1769286600-1769297400@www.therelatives.co.nz
SUMMARY:Private Event - Wairarapa
DESCRIPTION:
URL:https://www.therelatives.co.nz/event/private-event-104/
ATTACH;FMTTYPE=image/jpeg:https://www.therelatives.co.nz/wp-content/uploads/2024/03/Designer-PRIVATE-EVENT.jpeg
END:VEVENT
END:VCALENDAR