BEGIN:VCALENDAR
VERSION:2.0
PRODID:-//The Relatives - ECPv5.1.6//NONSGML v1.0//EN
CALSCALE:GREGORIAN
METHOD:PUBLISH
X-WR-CALNAME:The Relatives
X-ORIGINAL-URL:https://www.therelatives.co.nz
X-WR-CALDESC:Events for The Relatives
BEGIN:VTIMEZONE
TZID:Pacific/Auckland
BEGIN:STANDARD
TZOFFSETFROM:+1300
TZOFFSETTO:+1200
TZNAME:NZST
DTSTART:20210403T140000
END:STANDARD
BEGIN:DAYLIGHT
TZOFFSETFROM:+1200
TZOFFSETTO:+1300
TZNAME:NZDT
DTSTART:20210925T140000
END:DAYLIGHT
END:VTIMEZONE
BEGIN:VEVENT
DTSTART;TZID=Pacific/Auckland:20210313T210000
DTEND;TZID=Pacific/Auckland:20210313T234500
DTSTAMP:20260420T115819
CREATED:20210222T100323Z
LAST-MODIFIED:20210222T100323Z
UID:3585-1615669200-1615679100@www.therelatives.co.nz
SUMMARY:Private Event
DESCRIPTION:
URL:https://www.therelatives.co.nz/event/private-event-18/
END:VEVENT
END:VCALENDAR