BEGIN:VCALENDAR
VERSION:2.0
PRODID:-//The Relatives - ECPv5.1.6//NONSGML v1.0//EN
CALSCALE:GREGORIAN
METHOD:PUBLISH
X-WR-CALNAME:The Relatives
X-ORIGINAL-URL:https://www.therelatives.co.nz
X-WR-CALDESC:Events for The Relatives
BEGIN:VTIMEZONE
TZID:Pacific/Auckland
BEGIN:STANDARD
TZOFFSETFROM:+1300
TZOFFSETTO:+1200
TZNAME:NZST
DTSTART:20260404T140000
END:STANDARD
BEGIN:DAYLIGHT
TZOFFSETFROM:+1200
TZOFFSETTO:+1300
TZNAME:NZDT
DTSTART:20260926T140000
END:DAYLIGHT
END:VTIMEZONE
BEGIN:VEVENT
DTSTART;TZID=Pacific/Auckland:20260520T203000
DTEND;TZID=Pacific/Auckland:20260520T233000
DTSTAMP:20260426T022034
CREATED:20260309T060130Z
LAST-MODIFIED:20260309T060130Z
UID:4713-1779309000-1779319800@www.therelatives.co.nz
SUMMARY:Private Event - TSB Arena Wellington
DESCRIPTION:
URL:https://www.therelatives.co.nz/event/private-event-tsb-arena-wellington/
ATTACH;FMTTYPE=image/jpeg:https://www.therelatives.co.nz/wp-content/uploads/2022/08/TSB-Bank-Arena_Front-doors-at-night__FocusFillWyIwLjAyIiwiMC4xOSIsMTIwMCw2MDBd.jpg
END:VEVENT
END:VCALENDAR