BEGIN:VCALENDAR
VERSION:2.0
PRODID:-//The Relatives - ECPv5.1.6//NONSGML v1.0//EN
CALSCALE:GREGORIAN
METHOD:PUBLISH
X-WR-CALNAME:The Relatives
X-ORIGINAL-URL:https://www.therelatives.co.nz
X-WR-CALDESC:Events for The Relatives
BEGIN:VTIMEZONE
TZID:Pacific/Auckland
BEGIN:STANDARD
TZOFFSETFROM:+1300
TZOFFSETTO:+1200
TZNAME:NZST
DTSTART:20190406T140000
END:STANDARD
BEGIN:DAYLIGHT
TZOFFSETFROM:+1200
TZOFFSETTO:+1300
TZNAME:NZDT
DTSTART:20190928T140000
END:DAYLIGHT
END:VTIMEZONE
BEGIN:VEVENT
DTSTART;TZID=Pacific/Auckland:20191019T203000
DTEND;TZID=Pacific/Auckland:20191019T233000
DTSTAMP:20260422T025152
CREATED:20190826T101122Z
LAST-MODIFIED:20190826T101122Z
UID:3279-1571517000-1571527800@www.therelatives.co.nz
SUMMARY:Private Function
DESCRIPTION:
URL:https://www.therelatives.co.nz/event/private-function-77/
END:VEVENT
END:VCALENDAR