BEGIN:VCALENDAR
VERSION:2.0
PRODID:-//The Relatives - ECPv5.1.6//NONSGML v1.0//EN
CALSCALE:GREGORIAN
METHOD:PUBLISH
X-WR-CALNAME:The Relatives
X-ORIGINAL-URL:https://www.therelatives.co.nz
X-WR-CALDESC:Events for The Relatives
BEGIN:VTIMEZONE
TZID:Pacific/Auckland
BEGIN:STANDARD
TZOFFSETFROM:+1300
TZOFFSETTO:+1200
TZNAME:NZST
DTSTART:20260404T140000
END:STANDARD
BEGIN:DAYLIGHT
TZOFFSETFROM:+1200
TZOFFSETTO:+1300
TZNAME:NZDT
DTSTART:20260926T140000
END:DAYLIGHT
END:VTIMEZONE
BEGIN:VEVENT
DTSTART;TZID=Pacific/Auckland:20260317T210000
DTEND;TZID=Pacific/Auckland:20260317T235900
DTSTAMP:20260424T080331
CREATED:20260309T053519Z
LAST-MODIFIED:20260309T053519Z
UID:4688-1773781200-1773791940@www.therelatives.co.nz
SUMMARY:St Patricks Day
DESCRIPTION:
URL:https://www.therelatives.co.nz/event/st-patricks-day/
ATTACH;FMTTYPE=image/png:https://www.therelatives.co.nz/wp-content/uploads/2025/11/GibbonsHotel.png
END:VEVENT
END:VCALENDAR