BEGIN:VCALENDAR
VERSION:2.0
PRODID:-//The Relatives - ECPv5.1.6//NONSGML v1.0//EN
CALSCALE:GREGORIAN
METHOD:PUBLISH
X-WR-CALNAME:The Relatives
X-ORIGINAL-URL:https://www.therelatives.co.nz
X-WR-CALDESC:Events for The Relatives
BEGIN:VTIMEZONE
TZID:Pacific/Auckland
BEGIN:STANDARD
TZOFFSETFROM:+1300
TZOFFSETTO:+1200
TZNAME:NZST
DTSTART:20260404T140000
END:STANDARD
BEGIN:DAYLIGHT
TZOFFSETFROM:+1200
TZOFFSETTO:+1300
TZNAME:NZDT
DTSTART:20260926T140000
END:DAYLIGHT
END:VTIMEZONE
BEGIN:VEVENT
DTSTART;TZID=Pacific/Auckland:20260221T160000
DTEND;TZID=Pacific/Auckland:20260221T173000
DTSTAMP:20260424T013840
CREATED:20250929T112551Z
LAST-MODIFIED:20250929T112551Z
UID:4603-1771689600-1771695000@www.therelatives.co.nz
SUMMARY:Wairarapa Wines Harvest Festival
DESCRIPTION:Wairarapa Wines Harvest Festival – Entertainment \n4pm – 5.30pm
URL:https://www.therelatives.co.nz/event/wairarapa-wines-harvest-festival-2/
ATTACH;FMTTYPE=image/png:https://www.therelatives.co.nz/wp-content/uploads/2025/09/Harvest.png
END:VEVENT
END:VCALENDAR