BEGIN:VCALENDAR
VERSION:2.0
PRODID:-//The Relatives - ECPv5.1.6//NONSGML v1.0//EN
CALSCALE:GREGORIAN
METHOD:PUBLISH
X-WR-CALNAME:The Relatives
X-ORIGINAL-URL:https://www.therelatives.co.nz
X-WR-CALDESC:Events for The Relatives
BEGIN:VTIMEZONE
TZID:Pacific/Auckland
BEGIN:STANDARD
TZOFFSETFROM:+1300
TZOFFSETTO:+1200
TZNAME:NZST
DTSTART:20210403T140000
END:STANDARD
BEGIN:DAYLIGHT
TZOFFSETFROM:+1200
TZOFFSETTO:+1300
TZNAME:NZDT
DTSTART:20210925T140000
END:DAYLIGHT
END:VTIMEZONE
BEGIN:VEVENT
DTSTART;TZID=Pacific/Auckland:20210213T174500
DTEND;TZID=Pacific/Auckland:20210213T190000
DTSTAMP:20260424T234420
CREATED:20210111T104056Z
LAST-MODIFIED:20210111T104210Z
UID:3523-1613238300-1613242800@www.therelatives.co.nz
SUMMARY:Wellington Wine and Food Festival
DESCRIPTION:Homepage \n\n5.45pm to 7pm
URL:https://www.therelatives.co.nz/event/wellington-wine-and-food-festival/
END:VEVENT
END:VCALENDAR